BEGIN:VCALENDAR
VERSION:2.0
PRODID:-//Hillyard Senior Center - ECPv6.15.20//NONSGML v1.0//EN
CALSCALE:GREGORIAN
METHOD:PUBLISH
X-ORIGINAL-URL:https://hillyardseniorcenter.org
X-WR-CALDESC:Events for Hillyard Senior Center
REFRESH-INTERVAL;VALUE=DURATION:PT1H
X-Robots-Tag:noindex
X-PUBLISHED-TTL:PT1H
BEGIN:VTIMEZONE
TZID:America/Los_Angeles
BEGIN:DAYLIGHT
TZOFFSETFROM:-0800
TZOFFSETTO:-0700
TZNAME:PDT
DTSTART:20240310T100000
END:DAYLIGHT
BEGIN:STANDARD
TZOFFSETFROM:-0700
TZOFFSETTO:-0800
TZNAME:PST
DTSTART:20241103T090000
END:STANDARD
BEGIN:DAYLIGHT
TZOFFSETFROM:-0800
TZOFFSETTO:-0700
TZNAME:PDT
DTSTART:20250309T100000
END:DAYLIGHT
BEGIN:STANDARD
TZOFFSETFROM:-0700
TZOFFSETTO:-0800
TZNAME:PST
DTSTART:20251102T090000
END:STANDARD
BEGIN:DAYLIGHT
TZOFFSETFROM:-0800
TZOFFSETTO:-0700
TZNAME:PDT
DTSTART:20260308T100000
END:DAYLIGHT
BEGIN:STANDARD
TZOFFSETFROM:-0700
TZOFFSETTO:-0800
TZNAME:PST
DTSTART:20261101T090000
END:STANDARD
END:VTIMEZONE
BEGIN:VEVENT
DTSTART;TZID=America/Los_Angeles:20251105T130000
DTEND;TZID=America/Los_Angeles:20251105T150000
DTSTAMP:20260423T015541
CREATED:20251023T214343Z
LAST-MODIFIED:20251023T233350Z
UID:1244-1762347600-1762354800@hillyardseniorcenter.org
SUMMARY:November Dance
DESCRIPTION:Put on your dancing shoes and join us for an afternoon of live music and fun with the Jerry Rigged Band! Enjoy a great mix of classic hits\, country favorites\, and toe-tapping tunes that always get the crowd moving. Whether you love to dance or simply enjoy good music and great company\, everyone’s welcome to join the fun. Light refreshments are served\, and partners are not required — just bring your best smile and enjoy the rhythm at Hillyard Senior Center!
URL:https://hillyardseniorcenter.org/event/november-dance/
LOCATION:Northeast Community Center\, 4001 N Cook St\, Spokane\, Washington\, 99207\, United States
ATTACH;FMTTYPE=image/jpeg:https://hillyardseniorcenter.org/wp-content/uploads/2025/10/Dance-flyer-final-1.jpg
ORGANIZER;CN="Hillyard Senior Center":MAILTO:hillyardseniorcenter@yahoo.com
END:VEVENT
BEGIN:VEVENT
DTSTART;TZID=America/Los_Angeles:20251108T100000
DTEND;TZID=America/Los_Angeles:20251108T140000
DTSTAMP:20260423T015541
CREATED:20251017T002310Z
LAST-MODIFIED:20251024T183613Z
UID:1083-1762596000-1762610400@hillyardseniorcenter.org
SUMMARY:Craft Bazaar & Bake Sale Fundraiser 2025
DESCRIPTION:Craft Bazaar & Bake Sale Fundraiser\n\n\n\n\nDonate Today!\n\n\n\n\n\n			\n				\n			\n		\n\n\n\n \n\n\n\n\n\n Hillyard Senior Center Craft Bazaar & Bake Sale \n\n\n\nSaturday\, November 8th | 10:00 AM – 2:00 PMHillyard Senior Center @ Northeast Community Center – 4001 N. Cook St.\, Spokane \n\n\n\nJoin us for our Annual Craft Bazaar & Bake Sale — a favorite community tradition featuring unique handmade goods\, holiday crafts\, and delicious homemade treats from our talented members and local vendors. \n\n\n\nFind the perfect gifts\, enjoy a warm drink\, and support local seniors while you shop. \n\n\n\n Our very first Vendor Led Craft Fair we can’t wait for you to see!!\ Homemade baked goods available for purchase Raffle drawings and community fun all day! Serving Hot Dogs OR Chili Dogs! \n\n\n\nAdmission is free\, and all proceeds support Hillyard Senior Center programs and activities. \n\n\n\nFor vendor info or questions\, call 509-482-0803 or visit hillyardseniorcenter.org. 
URL:https://hillyardseniorcenter.org/event/craft-bazaar-bake-sale-fundraiser/
LOCATION:Northeast Community Center\, 4001 N Cook St\, Spokane\, Washington\, 99207\, United States
ATTACH;FMTTYPE=image/jpeg:https://hillyardseniorcenter.org/wp-content/uploads/2025/10/565110096_851744064185428_2448898656869814102_n.jpg
END:VEVENT
BEGIN:VEVENT
DTSTART;TZID=America/Los_Angeles:20251108T104500
DTEND;TZID=America/Los_Angeles:20251108T143000
DTSTAMP:20260423T015541
CREATED:20251023T220225Z
LAST-MODIFIED:20251023T220336Z
UID:1260-1762598700-1762612200@hillyardseniorcenter.org
SUMMARY:Fall Folk Festival
DESCRIPTION:**Saturday\, Nov. 8th (Moderate)$5 Member / Non-Member $8Take your pick from eight stages of traditional and ethnic dance and music along with workshops\, special entertainment\, and crafts. The festival was created to support our regional folk musicians; it features about 100 performing groups representing Celtic\, bluegrass\, blues\, African\, Asian\, Middle Eastern traditions and more! Trip price includes: Transportation\, Tour Leader / Driver. HSC Pick-up is at 10:45am\, and Home pick-ups before.
URL:https://hillyardseniorcenter.org/event/fall-folk-festival/
CATEGORIES:Day Trips
ATTACH;FMTTYPE=image/png:https://hillyardseniorcenter.org/wp-content/uploads/2025/10/5226833.png
ORGANIZER;CN="Hillyard Senior Center":MAILTO:hillyardseniorcenter@yahoo.com
END:VEVENT
BEGIN:VEVENT
DTSTART;TZID=America/Los_Angeles:20251110T093000
DTEND;TZID=America/Los_Angeles:20251110T120000
DTSTAMP:20260423T015541
CREATED:20251023T220628Z
LAST-MODIFIED:20251023T220629Z
UID:1263-1762767000-1762776000@hillyardseniorcenter.org
SUMMARY:Breakfast Out - IHOP
DESCRIPTION:Monday\, Nov. 10th (Easy)$5 Member / Non-Member $8Join friends from the HSC for a delicious breakfast at IHOP restaurant in Spokane Valley. Enjoy breakfast at a local favorite. Remember breakfast is on your own. Hurry — this trip fills quickly!Trip price includes: Transportation and Tour Leader / Driver.HSC Pick-up is at 9:30am\, and Home pick-ups before.
URL:https://hillyardseniorcenter.org/event/breakfast-out-ihop/
ATTACH;FMTTYPE=image/png:https://hillyardseniorcenter.org/wp-content/uploads/2025/10/IHOP_logo.svg_.png
ORGANIZER;CN="Hillyard Senior Center":MAILTO:hillyardseniorcenter@yahoo.com
END:VEVENT
BEGIN:VEVENT
DTSTART;TZID=America/Los_Angeles:20251111T110000
DTEND;TZID=America/Los_Angeles:20251111T123000
DTSTAMP:20260423T015541
CREATED:20251023T215620Z
LAST-MODIFIED:20251023T233434Z
UID:1257-1762858800-1762864200@hillyardseniorcenter.org
SUMMARY:Veterans Day Lunch
DESCRIPTION:Join us as we honor our veterans with a special Veterans Day Lunch at the Hillyard Senior Center. Enjoy a hearty meal of meatball sub sandwiches\, chips\, and soup\, followed by a touching a cappella performance by Rich Kapelke\, who was previously featured at the Veterans Honor Wall. \n\n\n\nWe’ll also share a Veterans Slideshow\, so bring photos of yourself\, a loved one\, or anyone you’d like to recognize for their service. \n\n\n\nVeterans eat free — all others $5 per plate.Come enjoy good food\, great company\, and a moment of gratitude for those who have served.
URL:https://hillyardseniorcenter.org/event/veterans-day-lunch/
LOCATION:Northeast Community Center\, 4001 N Cook St\, Spokane\, Washington\, 99207\, United States
ATTACH;FMTTYPE=image/png:https://hillyardseniorcenter.org/wp-content/uploads/2025/10/Blue-and-White-Modern-Veterans-Day-Flyer.png
ORGANIZER;CN="Hillyard Senior Center":MAILTO:hillyardseniorcenter@yahoo.com
END:VEVENT
BEGIN:VEVENT
DTSTART;TZID=America/Los_Angeles:20251112T000000
DTEND;TZID=America/Los_Angeles:20251112T235959
DTSTAMP:20260423T015541
CREATED:20251023T215123Z
LAST-MODIFIED:20251023T233604Z
UID:1255-1762905600-1762991999@hillyardseniorcenter.org
SUMMARY:Board Elections
DESCRIPTION:Join us for our Annual Board Elections where members of the Hillyard Senior Center family vote to select new leadership and shape the future of our community. Whether you’re interested in serving or simply want to cast your vote\, we welcome your participation. Help us keep our heart strong and our mission moving forward.
URL:https://hillyardseniorcenter.org/event/board-elections/
ATTACH;FMTTYPE=image/jpeg:https://hillyardseniorcenter.org/wp-content/uploads/2025/10/Board_Election_Banner.jpg
ORGANIZER;CN="Hillyard Senior Center":MAILTO:hillyardseniorcenter@yahoo.com
END:VEVENT
BEGIN:VEVENT
DTSTART;TZID=America/Los_Angeles:20251112T130000
DTEND;TZID=America/Los_Angeles:20251112T150000
DTSTAMP:20260423T015541
CREATED:20251023T214128Z
LAST-MODIFIED:20251023T214129Z
UID:1242-1762952400-1762959600@hillyardseniorcenter.org
SUMMARY:Western Themed Birthday Party!
DESCRIPTION:Join us as we celebrate all our members with birthdays this month! Each celebration includes cake\, coffee\, and plenty of smiles as we gather to honor our friends. Everyone is welcome — whether it’s your birthday or you just want to celebrate with others. Come enjoy good company\, music\, and a cheerful afternoon at Hillyard Senior Center!
URL:https://hillyardseniorcenter.org/event/western-themed-birthday-party/
LOCATION:Northeast Community Center\, 4001 N Cook St\, Spokane\, Washington\, 99207\, United States
ATTACH;FMTTYPE=image/jpeg:https://hillyardseniorcenter.org/wp-content/uploads/2024/03/strawberry-cake-png.jpg
ORGANIZER;CN="Hillyard Senior Center":MAILTO:hillyardseniorcenter@yahoo.com
END:VEVENT
BEGIN:VEVENT
DTSTART;TZID=America/Los_Angeles:20251113T153000
DTEND;TZID=America/Los_Angeles:20251113T190000
DTSTAMP:20260423T015541
CREATED:20251023T220905Z
LAST-MODIFIED:20251023T220930Z
UID:1266-1763047800-1763060400@hillyardseniorcenter.org
SUMMARY:EWU Theater Presents: This Random World
DESCRIPTION:Friday\, Nov. 15th (Easy)$10 Member / $13 Non-MemberAt Eastern Washington University Theatre\, this beautifully crafted play follows several intertwined lives that explore the near misses and connections that make up our world. A bittersweet and humorous look at how our lives overlap in unexpected ways — you won’t want to miss this wonderful production! Trip price includes: Transportation and Tour Leader / Driver. HSC Pick-up is at 6:15 PM\, and Home pick-ups before.
URL:https://hillyardseniorcenter.org/event/ewu-theater-presents-this-random-world/
ATTACH;FMTTYPE=image/webp:https://hillyardseniorcenter.org/wp-content/uploads/2025/10/ThisRandomWorldpostersmall-scaled.webp
ORGANIZER;CN="Hillyard Senior Center":MAILTO:hillyardseniorcenter@yahoo.com
END:VEVENT
BEGIN:VEVENT
DTSTART;TZID=America/Los_Angeles:20251115T140000
DTEND;TZID=America/Los_Angeles:20251115T180000
DTSTAMP:20260423T015541
CREATED:20251023T221515Z
LAST-MODIFIED:20251023T221552Z
UID:1270-1763215200-1763229600@hillyardseniorcenter.org
SUMMARY:Spokane Symphony: The Nutcracker Ballet
DESCRIPTION:James Lowe\, conductorState Street Ballet \n\n\n\nSaturday\, Dec. 14th (Easy)$38 Member / $41 Non-MemberSpokane Ballet Theatre’s “The Nutcracker” features the classic Tchaikovsky score\, lavish costumes\, and beautiful choreography — a holiday tradition for the whole family. Join us for this beloved performance at Spokane Community College. Trip price includes transportation and tour leader/driver. HSC pick-up is at 12:30 PM with home pick-ups before. \n\n\n\nGather your family and friends for Spokane’s favorite holiday tradition. State Street Ballet and over 70 local dancers bring The Nutcracker to life while Tchaikovsky’s timeless score is played live by the Spokane Symphony.  MATINEE DOORS 2PM | 3PM \n\n\n\nFor information on the Sensory Friendly performance of The Nutcracker Ballet visit here.
URL:https://hillyardseniorcenter.org/event/spokane-symphony-the-nutcracker-ballet/
ATTACH;FMTTYPE=image/jpeg:https://hillyardseniorcenter.org/wp-content/uploads/2025/10/1110x440_Nutcracker25.jpg
ORGANIZER;CN="Hillyard Senior Center":MAILTO:hillyardseniorcenter@yahoo.com
END:VEVENT
BEGIN:VEVENT
DTSTART;TZID=America/Los_Angeles:20251116T110000
DTEND;TZID=America/Los_Angeles:20251116T150000
DTSTAMP:20260423T015541
CREATED:20251023T230906Z
LAST-MODIFIED:20251023T230907Z
UID:1273-1763290800-1763305200@hillyardseniorcenter.org
SUMMARY:Local High School Craft Fairs
DESCRIPTION:Sunday\, Nov. 16th (Moderate)$5 Member / $8 Non-MemberCome shop the Shadle Park & Mead H.S. Fall ‘25 Craft Shows! These annual craft fairs feature hundreds of local crafters\, artisans\, bakers\, and small business owners selling their fine art\, handmade goods\, and specialty foods. We will visit both Shadle & Mead Craft Shows. Come along for a fun time shopping these great fall craft shows! Trip price includes: transportation\, admissions\, and tour leader/driver. HSC pick-up is at 11:00am\, with home pick-ups before.
URL:https://hillyardseniorcenter.org/event/local-high-school-craft-fairs/
ATTACH;FMTTYPE=image/jpeg:https://hillyardseniorcenter.org/wp-content/uploads/2025/10/craft-fair-cover.jpg
ORGANIZER;CN="Hillyard Senior Center":MAILTO:hillyardseniorcenter@yahoo.com
END:VEVENT
BEGIN:VEVENT
DTSTART;TZID=America/Los_Angeles:20251119T103000
DTEND;TZID=America/Los_Angeles:20251119T113000
DTSTAMP:20260423T015541
CREATED:20251023T214821Z
LAST-MODIFIED:20251023T233702Z
UID:1250-1763548200-1763551800@hillyardseniorcenter.org
SUMMARY:The Osborn Files
DESCRIPTION:
URL:https://hillyardseniorcenter.org/event/the-osborn-files/
LOCATION:Northeast Community Center\, 4001 N Cook St\, Spokane\, Washington\, 99207\, United States
ATTACH;FMTTYPE=image/png:https://hillyardseniorcenter.org/wp-content/uploads/2025/10/Osborn-Files.png
ORGANIZER;CN="Hillyard Senior Center":MAILTO:hillyardseniorcenter@yahoo.com
END:VEVENT
BEGIN:VEVENT
DTSTART;TZID=America/Los_Angeles:20251119T130000
DTEND;TZID=America/Los_Angeles:20251119T150000
DTSTAMP:20260423T015541
CREATED:20251023T214607Z
LAST-MODIFIED:20251023T233733Z
UID:1248-1763557200-1763564400@hillyardseniorcenter.org
SUMMARY:Karaoke
DESCRIPTION:Grab the mic and sing your heart out! Our karaoke afternoons are all about fun\, laughter\, and great music. Whether you’re a seasoned performer or just want to cheer on your friends\, everyone’s welcome. Enjoy a relaxed atmosphere\, a supportive crowd\, and plenty of classic tunes to choose from. Come share your favorite song and be part of the show!
URL:https://hillyardseniorcenter.org/event/karaoke/
LOCATION:Northeast Community Center\, 4001 N Cook St\, Spokane\, Washington\, 99207\, United States
ATTACH;FMTTYPE=image/avif:https://hillyardseniorcenter.org/wp-content/uploads/2025/10/karaoke-with-microphones-stars-neon-style_24908-60794.avif
ORGANIZER;CN="Hillyard Senior Center":MAILTO:hillyardseniorcenter@yahoo.com
END:VEVENT
BEGIN:VEVENT
DTSTART;TZID=America/Los_Angeles:20251124T090000
DTEND;TZID=America/Los_Angeles:20251124T153000
DTSTAMP:20260423T015541
CREATED:20251023T232659Z
LAST-MODIFIED:20251023T232700Z
UID:1276-1763974800-1763998200@hillyardseniorcenter.org
SUMMARY:Coeur d' Alene Casino Trip
DESCRIPTION:Monday\, Nov. 18th (Easy)$10 Member / $13 Non-MemberEnjoy a day at the Coeur d’Alene Casino! Whether you love the slots\, table games\, or just a relaxing lunch with friends\, this is always a member favorite. Trip price includes: Transportation and Tour Leader / Driver. HSC Pick-up is at 9:45 AM\, and Home pick-ups before.
URL:https://hillyardseniorcenter.org/event/coeur-d-alene-casino-trip/
ATTACH;FMTTYPE=image/png:https://hillyardseniorcenter.org/wp-content/uploads/2025/10/CDA_Casino_Logo_Vertical_Black-Preview.png
ORGANIZER;CN="Hillyard Senior Center":MAILTO:hillyardseniorcenter@yahoo.com
END:VEVENT
END:VCALENDAR