BEGIN:VCALENDAR
VERSION:2.0
PRODID:-//Hillyard Senior Center - ECPv6.15.20//NONSGML v1.0//EN
CALSCALE:GREGORIAN
METHOD:PUBLISH
X-WR-CALNAME:Hillyard Senior Center
X-ORIGINAL-URL:https://hillyardseniorcenter.org
X-WR-CALDESC:Events for Hillyard Senior Center
REFRESH-INTERVAL;VALUE=DURATION:PT1H
X-Robots-Tag:noindex
X-PUBLISHED-TTL:PT1H
BEGIN:VTIMEZONE
TZID:America/Los_Angeles
BEGIN:DAYLIGHT
TZOFFSETFROM:-0800
TZOFFSETTO:-0700
TZNAME:PDT
DTSTART:20240310T100000
END:DAYLIGHT
BEGIN:STANDARD
TZOFFSETFROM:-0700
TZOFFSETTO:-0800
TZNAME:PST
DTSTART:20241103T090000
END:STANDARD
BEGIN:DAYLIGHT
TZOFFSETFROM:-0800
TZOFFSETTO:-0700
TZNAME:PDT
DTSTART:20250309T100000
END:DAYLIGHT
BEGIN:STANDARD
TZOFFSETFROM:-0700
TZOFFSETTO:-0800
TZNAME:PST
DTSTART:20251102T090000
END:STANDARD
BEGIN:DAYLIGHT
TZOFFSETFROM:-0800
TZOFFSETTO:-0700
TZNAME:PDT
DTSTART:20260308T100000
END:DAYLIGHT
BEGIN:STANDARD
TZOFFSETFROM:-0700
TZOFFSETTO:-0800
TZNAME:PST
DTSTART:20261101T090000
END:STANDARD
END:VTIMEZONE
BEGIN:VEVENT
DTSTART;TZID=America/Los_Angeles:20251019T083000
DTEND;TZID=America/Los_Angeles:20251019T120000
DTSTAMP:20260421T005636
CREATED:20251017T000029Z
LAST-MODIFIED:20251017T001818Z
UID:1068-1760862600-1760875200@hillyardseniorcenter.org
SUMMARY:Pancake Feed Fundraiser
DESCRIPTION:Donate Today!\n\n\n\n\n\n\n\n\n\n\n\n\n\n\n Join us for our Pancake Feed Fundraiser!Start your morning with a delicious hot breakfast served at the Hillyard Senior Center! Enjoy fluffy pancakes\, scrambled eggs\, sausage links\, fruit\, coffee\, and juice\, all while supporting programs that benefit local seniors. \n\n\n\n Date: Sunday\, October 19 Time: 8:30am – 12:30pm Location: Hillyard Senior Center \n\n\n\nAdults $12 Age 6-12 $5 | Kids Age 5 unde eat free!! So bring your family down for a hot breakfast!’ \n\n\n\nCome hungry\, bring friends\, bring your family and support a great cause in our community!
URL:https://hillyardseniorcenter.org/event/pancake-feed-fundraiser/
LOCATION:Northeast Community Center\, 4001 N. Cook St.\, Spokane\, Washington\, 99207\, United States
ATTACH;FMTTYPE=image/jpeg:https://hillyardseniorcenter.org/wp-content/uploads/2025/10/559451546_849212824438552_137747810279141529_n.jpg
ORGANIZER;CN="Hillyard Senior Center":MAILTO:hillyardseniorcenter@yahoo.com
END:VEVENT
END:VCALENDAR