BEGIN:VCALENDAR
VERSION:2.0
PRODID:-//Hillyard Senior Center - ECPv6.15.20//NONSGML v1.0//EN
CALSCALE:GREGORIAN
METHOD:PUBLISH
X-WR-CALNAME:Hillyard Senior Center
X-ORIGINAL-URL:https://hillyardseniorcenter.org
X-WR-CALDESC:Events for Hillyard Senior Center
REFRESH-INTERVAL;VALUE=DURATION:PT1H
X-Robots-Tag:noindex
X-PUBLISHED-TTL:PT1H
BEGIN:VTIMEZONE
TZID:America/Los_Angeles
BEGIN:DAYLIGHT
TZOFFSETFROM:-0800
TZOFFSETTO:-0700
TZNAME:PDT
DTSTART:20250309T100000
END:DAYLIGHT
BEGIN:STANDARD
TZOFFSETFROM:-0700
TZOFFSETTO:-0800
TZNAME:PST
DTSTART:20251102T090000
END:STANDARD
BEGIN:DAYLIGHT
TZOFFSETFROM:-0800
TZOFFSETTO:-0700
TZNAME:PDT
DTSTART:20260308T100000
END:DAYLIGHT
BEGIN:STANDARD
TZOFFSETFROM:-0700
TZOFFSETTO:-0800
TZNAME:PST
DTSTART:20261101T090000
END:STANDARD
BEGIN:DAYLIGHT
TZOFFSETFROM:-0800
TZOFFSETTO:-0700
TZNAME:PDT
DTSTART:20270314T100000
END:DAYLIGHT
BEGIN:STANDARD
TZOFFSETFROM:-0700
TZOFFSETTO:-0800
TZNAME:PST
DTSTART:20271107T090000
END:STANDARD
END:VTIMEZONE
BEGIN:VEVENT
DTSTART;TZID=America/Los_Angeles:20260204T130000
DTEND;TZID=America/Los_Angeles:20260204T150000
DTSTAMP:20260423T045643
CREATED:20260129T213344Z
LAST-MODIFIED:20260129T221555Z
UID:1380-1770210000-1770217200@hillyardseniorcenter.org
SUMMARY:Monthly Dance: Jerry-At-Tricks Band
DESCRIPTION:
URL:https://hillyardseniorcenter.org/event/monthly-dance-live-entertainment-with-jerry-at-tricks-band/
LOCATION:Northeast Community Center\, 4001 N Cook St\, Spokane\, Washington\, 99207\, United States
ATTACH;FMTTYPE=image/jpeg:https://hillyardseniorcenter.org/wp-content/uploads/2025/10/Dance-flyer-final-1.jpg
END:VEVENT
BEGIN:VEVENT
DTSTART;TZID=America/Los_Angeles:20260209T120000
DTEND;TZID=America/Los_Angeles:20260209T130000
DTSTAMP:20260423T045643
CREATED:20260202T210109Z
LAST-MODIFIED:20260202T210110Z
UID:1411-1770638400-1770642000@hillyardseniorcenter.org
SUMMARY:Lunch Out to Billie's Diner
DESCRIPTION:Join your friends from the HSC for a delicious Breakfast Out at Billie’s Diner\, a farmer-ˡrst American diner serving classic breakfast and lunch favorites. Billie’s proudly celebrates the Inland Northwest by sourcing many of their ingredients from local farmers\, offering fresh and comforting dishes in a warm\, welcoming setting. Remember\, lunch is on your own. Hurry — this trip ˡlls quickly! Trip price includes: Transportation and Driver / Tour Leader. HSC Pick-up:11:30 AM\, Home pick-ups before. Limited to 30 participants.
URL:https://hillyardseniorcenter.org/event/lunch-out-to-billies-diner/
ATTACH;FMTTYPE=image/jpeg:https://hillyardseniorcenter.org/wp-content/uploads/2026/02/istockphoto-177556385-612x612-1.jpg
END:VEVENT
BEGIN:VEVENT
DTSTART;TZID=America/Los_Angeles:20260211T130000
DTEND;TZID=America/Los_Angeles:20260211T150000
DTSTAMP:20260423T045643
CREATED:20260129T213814Z
LAST-MODIFIED:20260129T221618Z
UID:1384-1770814800-1770822000@hillyardseniorcenter.org
SUMMARY:Sweetheart Birthday Party - YOU ARE INVITED!!
DESCRIPTION:
URL:https://hillyardseniorcenter.org/event/sweetheart-birthday-party/
LOCATION:Northeast Community Center\, 4001 N Cook St\, Spokane\, Washington\, 99207\, United States
ATTACH;FMTTYPE=image/png:https://hillyardseniorcenter.org/wp-content/uploads/2026/01/Pink-Birthday-Party-Instagram-Post.png
END:VEVENT
BEGIN:VEVENT
DTSTART;TZID=America/Los_Angeles:20260213T163000
DTEND;TZID=America/Los_Angeles:20260213T200000
DTSTAMP:20260423T045643
CREATED:20260129T215025Z
LAST-MODIFIED:20260129T221526Z
UID:1395-1771000200-1771012800@hillyardseniorcenter.org
SUMMARY:Valentine's Dinner & Dance Fundraiser
DESCRIPTION:Entertainment Sponsor\n\n\n\n\n\nFood & Dinner Sponsor
URL:https://hillyardseniorcenter.org/event/valentines-dinner-dance-fundraiser/
LOCATION:Northeast Community Center\, 4001 N Cook St\, Spokane\, Washington\, 99207\, United States
ATTACH;FMTTYPE=image/png:https://hillyardseniorcenter.org/wp-content/uploads/2026/01/2026-Valentines-Dinner-Dance-1.png
END:VEVENT
BEGIN:VEVENT
DTSTART;TZID=America/Los_Angeles:20260218T103000
DTEND;TZID=America/Los_Angeles:20260218T113000
DTSTAMP:20260423T045643
CREATED:20260129T214609Z
LAST-MODIFIED:20260129T221650Z
UID:1391-1771410600-1771414200@hillyardseniorcenter.org
SUMMARY:The Osborn Files - Featuring Musical Memories
DESCRIPTION:
URL:https://hillyardseniorcenter.org/event/the-osborn-files-featuring-musical-memories/
LOCATION:Northeast Community Center\, 4001 N Cook St\, Spokane\, Washington\, 99207\, United States
ATTACH;FMTTYPE=image/png:https://hillyardseniorcenter.org/wp-content/uploads/2026/01/Osborn-Files.png
END:VEVENT
BEGIN:VEVENT
DTSTART;TZID=America/Los_Angeles:20260218T130000
DTEND;TZID=America/Los_Angeles:20260218T150000
DTSTAMP:20260423T045643
CREATED:20260129T214404Z
LAST-MODIFIED:20260129T221657Z
UID:1388-1771419600-1771426800@hillyardseniorcenter.org
SUMMARY:Live Lounge: Live Entertainment with Guest Musician
DESCRIPTION:
URL:https://hillyardseniorcenter.org/event/live-lounge-live-entertainment-with-guest-musician/
LOCATION:Northeast Community Center\, 4001 N Cook St\, Spokane\, Washington\, 99207\, United States
ATTACH;FMTTYPE=image/png:https://hillyardseniorcenter.org/wp-content/uploads/2026/01/516ff739-4320-4bd4-a922-b03712591925.png
END:VEVENT
BEGIN:VEVENT
DTSTART;TZID=America/Los_Angeles:20260220T190000
DTEND;TZID=America/Los_Angeles:20260220T200000
DTSTAMP:20260423T045643
CREATED:20260202T210407Z
LAST-MODIFIED:20260202T210408Z
UID:1414-1771614000-1771617600@hillyardseniorcenter.org
SUMMARY:Spokane Symphone Presents: Side by Side Performance!
DESCRIPTION:Join us for a special evening at the Spokane Symphony’s Side by Side concert. This inspiring performance features talented high school musicians from Spokane Public Schools performing alongside professional symphony members. Experience an exciting and uplifting concert that celebrates music\, mentorship\, and the next generation of musicians. Trip price includes Transportation and Driver / Tour Leader. HSC Pick -up: 6:00PM (Show begins at 7:00 PM)\, Home pick-ups before.
URL:https://hillyardseniorcenter.org/event/spokane-symphone-presents-side-by-side-performance/
ATTACH;FMTTYPE=image/png:https://hillyardseniorcenter.org/wp-content/uploads/2026/02/Side-by-Side1.png
END:VEVENT
BEGIN:VEVENT
DTSTART;TZID=America/Los_Angeles:20260223T090000
DTEND;TZID=America/Los_Angeles:20260223T140000
DTSTAMP:20260423T045643
CREATED:20260202T210919Z
LAST-MODIFIED:20260202T210920Z
UID:1417-1771837200-1771855200@hillyardseniorcenter.org
SUMMARY:Trip to Worley - Coeur d' Alene Casino
DESCRIPTION:Come along for a fun and relaxing trip to the Coeur d’Alene Casino in Worley\, Idaho. Enjoy gaming\, dining\, and a scenic drive. When you’re replenished gaming\, relax in one of the casino’s restaurants or seating areas and enjoy great company with friends! Trip price includes: Transportation and Driver / Tour Leader. HSC Pick-up: 9:00AM\, Home pick-ups before. Register early — this trip fills quickly!
URL:https://hillyardseniorcenter.org/event/trip-to-worley-coeur-d-alene-casino/
ATTACH;FMTTYPE=image/jpeg:https://hillyardseniorcenter.org/wp-content/uploads/2026/02/248915037.jpg
END:VEVENT
BEGIN:VEVENT
DTSTART;TZID=America/Los_Angeles:20260225T130000
DTEND;TZID=America/Los_Angeles:20260225T150000
DTSTAMP:20260423T045643
CREATED:20251023T214944Z
LAST-MODIFIED:20260129T213001Z
UID:1253-1772024400-1772031600@hillyardseniorcenter.org
SUMMARY:Movie Day Viewing: A Little Princess
DESCRIPTION:Sit back\, relax\, and enjoy a great film with friends! Our movie viewings feature a mix of classic favorites\, comedies\, and feel-good stories — all shown on the big screen with popcorn and refreshments provided. It’s the perfect way to unwind\, share a few laughs\, and spend an enjoyable afternoon together. Everyone’s welcome!
URL:https://hillyardseniorcenter.org/event/movie-day-viewing-the-blind-side/
LOCATION:Northeast Community Center\, 4001 N Cook St\, Spokane\, Washington\, 99207\, United States
ATTACH;FMTTYPE=image/jpeg:https://hillyardseniorcenter.org/wp-content/uploads/2025/10/a-little-princess.jpg
ORGANIZER;CN="Hillyard Senior Center":MAILTO:hillyardseniorcenter@yahoo.com
END:VEVENT
BEGIN:VEVENT
DTSTART;TZID=America/Los_Angeles:20260226T180000
DTEND;TZID=America/Los_Angeles:20260226T210000
DTSTAMP:20260423T045643
CREATED:20260202T211159Z
LAST-MODIFIED:20260202T211200Z
UID:1420-1772128800-1772139600@hillyardseniorcenter.org
SUMMARY:Trip to Gonzaga Women's Basketbal Vs. Saint Mary's!
DESCRIPTION:Cheer on the Gonzaga Bulldogs as the women’s basketball team takes on Saint Mary’s at the McCarthey Athletic Center. Join us for an exciting evening of college basketball and school spirit. Trip price includes: Transportation and Driver / Tour Leader. HSC Pick -up: 5:00PM (Game begins at 6:00 PM)\, Home pick-ups before.
URL:https://hillyardseniorcenter.org/event/trip-to-gonzaga-womens-basketbal-vs-saint-marys/
ATTACH;FMTTYPE=image/webp:https://hillyardseniorcenter.org/wp-content/uploads/2026/02/67b8079c95c2a.hires_.webp
END:VEVENT
BEGIN:VEVENT
DTSTART;TZID=America/Los_Angeles:20260301T090000
DTEND;TZID=America/Los_Angeles:20260301T170000
DTSTAMP:20260423T045643
CREATED:20260202T211436Z
LAST-MODIFIED:20260202T211500Z
UID:1423-1772355600-1772384400@hillyardseniorcenter.org
SUMMARY:Trip to Union Town! Annual Sausage Feed
DESCRIPTION:Don’t miss this longtime favorite community tradition with a return to the traditional indoor seated event previously drive-thru due to the pandemic! We are excited! Join us for a trip to Uniontown to enjoy their famous Sausage Feed\, featuring a hearty meal and small-town charm. This trip is always popular — sign up early! Trip price includes: Meal\, Transportation and Driver / Tour Leader. HSC Pick-up: 9:00AM\, Home pick-ups before.
URL:https://hillyardseniorcenter.org/event/trip-to-union-town-annual-sausage-feed/
ATTACH;FMTTYPE=image/webp:https://hillyardseniorcenter.org/wp-content/uploads/2026/02/6401820ef260b.hires_.webp
END:VEVENT
END:VCALENDAR